BEGIN:VCALENDAR
VERSION:2.0
PRODID:-//Haus &amp; Grund Buxtehude - ECPv6.15.20//NONSGML v1.0//EN
CALSCALE:GREGORIAN
METHOD:PUBLISH
X-ORIGINAL-URL:https://hausundgrund-buxtehude.de
X-WR-CALDESC:Veranstaltungen für Haus &amp; Grund Buxtehude
REFRESH-INTERVAL;VALUE=DURATION:PT1H
X-Robots-Tag:noindex
X-PUBLISHED-TTL:PT1H
BEGIN:VTIMEZONE
TZID:Europe/Paris
BEGIN:DAYLIGHT
TZOFFSETFROM:+0100
TZOFFSETTO:+0200
TZNAME:CEST
DTSTART:20240331T010000
END:DAYLIGHT
BEGIN:STANDARD
TZOFFSETFROM:+0200
TZOFFSETTO:+0100
TZNAME:CET
DTSTART:20241027T010000
END:STANDARD
BEGIN:DAYLIGHT
TZOFFSETFROM:+0100
TZOFFSETTO:+0200
TZNAME:CEST
DTSTART:20250330T010000
END:DAYLIGHT
BEGIN:STANDARD
TZOFFSETFROM:+0200
TZOFFSETTO:+0100
TZNAME:CET
DTSTART:20251026T010000
END:STANDARD
BEGIN:DAYLIGHT
TZOFFSETFROM:+0100
TZOFFSETTO:+0200
TZNAME:CEST
DTSTART:20260329T010000
END:DAYLIGHT
BEGIN:STANDARD
TZOFFSETFROM:+0200
TZOFFSETTO:+0100
TZNAME:CET
DTSTART:20261025T010000
END:STANDARD
END:VTIMEZONE
BEGIN:VEVENT
DTSTART;TZID=Europe/Paris:20251104T160000
DTEND;TZID=Europe/Paris:20251104T180000
DTSTAMP:20260422T103535
CREATED:20240304T061643Z
LAST-MODIFIED:20250218T172025Z
UID:2977-1762272000-1762279200@hausundgrund-buxtehude.de
SUMMARY:Beratung mit André Grote (Verkauf und Baubiologie)
DESCRIPTION:Beratung zu Vermietung\, Verkauf\, Schimmelpilze\, Schadstoffe in Wohnräumen\, Baubiologie \n  \nWICHTIGE INFO:\nBitte melden Sie sich ausschließlich per Email/Telefon für den Beratungstermin an!
URL:https://hausundgrund-buxtehude.de/event/beratung-mit-andre-grote-2-2-2-2-2-2-2-2-3-2-2-2-2-2-2-2-2-2-2/
LOCATION:Haus & Grund Buxtehude e.V.\, Fischerstraße 4-6\, Buxtehude\, 21614\, Deutschland
CATEGORIES:Beratung
ATTACH;FMTTYPE=image/jpeg:https://hausundgrund-buxtehude.de/wp-content/uploads/2024/02/hggrote.jpg
END:VEVENT
BEGIN:VEVENT
DTSTART;TZID=Europe/Paris:20251106T120000
DTEND;TZID=Europe/Paris:20251106T130000
DTSTAMP:20260422T103535
CREATED:20240304T172557Z
LAST-MODIFIED:20240304T172557Z
UID:7408-1762430400-1762434000@hausundgrund-buxtehude.de
SUMMARY:Beratung mit Detlef Heins (Versicherungen)
DESCRIPTION:Versicherungscheck rund um die Immobilie \n\nWICHTIGE INFO:\nBitte melden Sie sich ausschließlich per Email/Telefon für den Beratungstermin an!
URL:https://hausundgrund-buxtehude.de/event/beratung-mit-detlef-heins-4-2-2-2-2-2-2-2-3-2-2/
LOCATION:Haus & Grund Buxtehude e.V.\, Fischerstraße 4-6\, Buxtehude\, 21614\, Deutschland
CATEGORIES:Beratung
ATTACH;FMTTYPE=image/jpeg:https://hausundgrund-buxtehude.de/wp-content/uploads/2024/03/versicherungheins_0.jpg
END:VEVENT
BEGIN:VEVENT
DTSTART;TZID=Europe/Paris:20251111T160000
DTEND;TZID=Europe/Paris:20251111T180000
DTSTAMP:20260422T103535
CREATED:20240304T080414Z
LAST-MODIFIED:20241212T145143Z
UID:3306-1762876800-1762884000@hausundgrund-buxtehude.de
SUMMARY:Beratung mit Stefan von Bargen (Hausverwaltung)
DESCRIPTION:Stefan von Bargen  – Immobilienökonom GdW –\n\nBeratung zu Hausverwaltung und Neben – und Betriebskostenabrechnungen.\nWICHTIGE INFO:\nBitte melden Sie sich ausschließlich per Email/Telefon für den Beratungstermin an!
URL:https://hausundgrund-buxtehude.de/event/beratung-mit-stefan-von-bargen-2-3-2-2-2-2-2-2-2-2-2-2-2-2-2-2-2-2-2/
LOCATION:Haus & Grund Buxtehude e.V.\, Fischerstraße 4-6\, Buxtehude\, 21614\, Deutschland
CATEGORIES:Beratung
ATTACH;FMTTYPE=image/jpeg:https://hausundgrund-buxtehude.de/wp-content/uploads/2024/03/von-Bargen.jpg
END:VEVENT
BEGIN:VEVENT
DTSTART;TZID=Europe/Paris:20251113T110000
DTEND;TZID=Europe/Paris:20251113T130000
DTSTAMP:20260422T103535
CREATED:20240304T082314Z
LAST-MODIFIED:20250512T163555Z
UID:6822-1763031600-1763038800@hausundgrund-buxtehude.de
SUMMARY:Beratung mit Sonny Papilaya (Gebäudetechnik)
DESCRIPTION:Sonny Papilaya – Elektromeister und Sachverständiger – \nBeratung Gebäudetechnik und PV-Anlagen \n  \nWICHTIGE INFO:\nBitte melden Sie sich ausschließlich per Email/Telefon für den Beratungstermin an!
URL:https://hausundgrund-buxtehude.de/event/beratung-mit-sonny-papilaya-4-3-2-2-2-2-3-2-2-2/
LOCATION:Haus & Grund Buxtehude e.V.\, Fischerstraße 4-6\, Buxtehude\, 21614\, Deutschland
CATEGORIES:Beratung
END:VEVENT
BEGIN:VEVENT
DTSTART;TZID=Europe/Paris:20251113T110000
DTEND;TZID=Europe/Paris:20251113T130000
DTSTAMP:20260422T103535
CREATED:20240304T193701Z
LAST-MODIFIED:20250512T163414Z
UID:6811-1763031600-1763038800@hausundgrund-buxtehude.de
SUMMARY:Beratung mit Marco Granzow (Baumängel)
DESCRIPTION:Beratung Schäden am Gebäude\, Baumängel \nWICHTIGE INFO:\nBitte melden Sie sich ausschließlich per Email/Telefon für den Beratungstermin an!\n 
URL:https://hausundgrund-buxtehude.de/event/beratung-mit-marco-granzow-2-2-2-2-2-2-2-2-3-2-2-2/
LOCATION:Haus & Grund Buxtehude e.V.\, Fischerstraße 4-6\, Buxtehude\, 21614\, Deutschland
CATEGORIES:Beratung
ATTACH;FMTTYPE=image/jpeg:https://hausundgrund-buxtehude.de/wp-content/uploads/2024/03/granzow_0.jpg
END:VEVENT
BEGIN:VEVENT
DTSTART;TZID=Europe/Paris:20251113T143000
DTEND;TZID=Europe/Paris:20251113T180000
DTSTAMP:20260422T103535
CREATED:20240304T172453Z
LAST-MODIFIED:20241130T074734Z
UID:2949-1763044200-1763056800@hausundgrund-buxtehude.de
SUMMARY:Beratung mit Malte Hämmer (Rechtsberatung)
DESCRIPTION:Rechtsberatung \nWICHTIGE INFO:\nBitte melden Sie sich ausschließlich per Email/Telefon für den Beratungstermin an!\n  \n\n\n\n\n\n\n\n\n 
URL:https://hausundgrund-buxtehude.de/event/rechtsberatung-ra-fr-h-david-2-3-3-2-2-2-2-2-2-2-2-2-2-2-2-2-2-2-2-2-2-2-2-2-2-2-2-2-2-2-2-2-2-2-2-2-2-2-2/
LOCATION:Haus & Grund Buxtehude e.V.\, Fischerstraße 4-6\, Buxtehude\, 21614\, Deutschland
CATEGORIES:Beratung
ATTACH;FMTTYPE=image/jpeg:https://hausundgrund-buxtehude.de/wp-content/uploads/2024/03/Rechtsanwalt-Haemmer-scaled.jpg
END:VEVENT
BEGIN:VEVENT
DTSTART;TZID=Europe/Paris:20251118T130000
DTEND;TZID=Europe/Paris:20251118T160000
DTSTAMP:20260422T103535
CREATED:20240304T194039Z
LAST-MODIFIED:20251021T154116Z
UID:8003-1763470800-1763481600@hausundgrund-buxtehude.de
SUMMARY:Exklusiver Infonachmittag
DESCRIPTION:Heute öffnet unser neuer Kooperationspartner – die Stadtwerke Buxtehude – exklusiv für  angemeldeten Mitglieder von Haus und Grund Buxtehude die Türen.  Dabei findet eine Führung durch das Wasserwerk statt und es finden kleine Fachvorträge zu aktuellen Themen statt. \nEine Teilnahme ist nur nach Anmeldung möglich. Gern unter: info@hausundgrund-buxtehude.de
URL:https://hausundgrund-buxtehude.de/event/vortragsabend-2-2-2-2-2-4/
LOCATION:Stadtwerke Buxtehude\, Ziegelkamp 8\, 21614 Buxtehude\, Germany
CATEGORIES:Events
ATTACH;FMTTYPE=image/jpeg:https://hausundgrund-buxtehude.de/wp-content/uploads/2025/01/Haus_und_Grund.jpg
END:VEVENT
BEGIN:VEVENT
DTSTART;TZID=Europe/Paris:20251120T150000
DTEND;TZID=Europe/Paris:20251120T180000
DTSTAMP:20260422T103535
CREATED:20240304T172236Z
LAST-MODIFIED:20240304T172236Z
UID:11702-1763650800-1763661600@hausundgrund-buxtehude.de
SUMMARY:Beratung mit WP/StB H.-J. Koerner (Steuer)
DESCRIPTION:steuerrechtliche Beratung \nWICHTIGE INFO:\nBitte melden Sie sich ausschließlich per Email/Telefon für den Beratungstermin an!
URL:https://hausundgrund-buxtehude.de/event/steuerberatung-mit-wp-stb-h-j-koerner-2-2-2-2-2-2-2-2-2-2-2/
LOCATION:Haus & Grund Buxtehude e.V.\, Fischerstraße 4-6\, Buxtehude\, 21614\, Deutschland
CATEGORIES:Beratung
ATTACH;FMTTYPE=image/jpeg:https://hausundgrund-buxtehude.de/wp-content/uploads/2024/03/hgkorner.jpg
END:VEVENT
BEGIN:VEVENT
DTSTART;TZID=Europe/Paris:20251125T143000
DTEND;TZID=Europe/Paris:20251125T180000
DTSTAMP:20260422T103535
CREATED:20240304T172453Z
LAST-MODIFIED:20250820T164234Z
UID:2951-1764081000-1764093600@hausundgrund-buxtehude.de
SUMMARY:Beratung mit Malte Hämmer (Rechtsberatung)
DESCRIPTION:Rechtsberatung \nWICHTIGE INFO:\nBitte melden Sie sich ausschließlich per Email/Telefon für den Beratungstermin an!\n  \n\n\n\n\n\n\n\n\n 
URL:https://hausundgrund-buxtehude.de/event/rechtsberatung-ra-fr-h-david-2-3-3-2-2-2-2-2-2-2-2-2-2-2-2-2-2-2-2-2-2-2-2-2-2-2-2-2-2-2-2-2-2-2-2-2-2-2-2-2/
LOCATION:Haus & Grund Buxtehude e.V.\, Fischerstraße 4-6\, Buxtehude\, 21614\, Deutschland
CATEGORIES:Beratung
ATTACH;FMTTYPE=image/jpeg:https://hausundgrund-buxtehude.de/wp-content/uploads/2024/03/Rechtsanwalt-Haemmer-scaled.jpg
END:VEVENT
END:VCALENDAR