BEGIN:VCALENDAR
VERSION:2.0
PRODID:-//Haus &amp; Grund Buxtehude - ECPv6.15.20//NONSGML v1.0//EN
CALSCALE:GREGORIAN
METHOD:PUBLISH
X-ORIGINAL-URL:https://hausundgrund-buxtehude.de
X-WR-CALDESC:Veranstaltungen für Haus &amp; Grund Buxtehude
REFRESH-INTERVAL;VALUE=DURATION:PT1H
X-Robots-Tag:noindex
X-PUBLISHED-TTL:PT1H
BEGIN:VTIMEZONE
TZID:Europe/Paris
BEGIN:DAYLIGHT
TZOFFSETFROM:+0100
TZOFFSETTO:+0200
TZNAME:CEST
DTSTART:20240331T010000
END:DAYLIGHT
BEGIN:STANDARD
TZOFFSETFROM:+0200
TZOFFSETTO:+0100
TZNAME:CET
DTSTART:20241027T010000
END:STANDARD
BEGIN:DAYLIGHT
TZOFFSETFROM:+0100
TZOFFSETTO:+0200
TZNAME:CEST
DTSTART:20250330T010000
END:DAYLIGHT
BEGIN:STANDARD
TZOFFSETFROM:+0200
TZOFFSETTO:+0100
TZNAME:CET
DTSTART:20251026T010000
END:STANDARD
BEGIN:DAYLIGHT
TZOFFSETFROM:+0100
TZOFFSETTO:+0200
TZNAME:CEST
DTSTART:20260329T010000
END:DAYLIGHT
BEGIN:STANDARD
TZOFFSETFROM:+0200
TZOFFSETTO:+0100
TZNAME:CET
DTSTART:20261025T010000
END:STANDARD
END:VTIMEZONE
BEGIN:VEVENT
DTSTART;TZID=Europe/Paris:20250211T160000
DTEND;TZID=Europe/Paris:20250211T180000
DTSTAMP:20260421T102325
CREATED:20240304T080414Z
LAST-MODIFIED:20241212T144831Z
UID:3288-1739289600-1739296800@hausundgrund-buxtehude.de
SUMMARY:Beratung mit Stefan von Bargen (Hausverwaltung)
DESCRIPTION:Stefan von Bargen  – Immobilienökonom GdW –\n\nBeratung zu Hausverwaltung und Neben – und Betriebskostenabrechnungen.\nWICHTIGE INFO:\nBitte melden Sie sich ausschließlich per Email/Telefon für den Beratungstermin an!
URL:https://hausundgrund-buxtehude.de/event/beratung-mit-stefan-von-bargen-2-3-2-2-2-2-2-2-2-2/
LOCATION:Haus & Grund Buxtehude e.V.\, Fischerstraße 4-6\, Buxtehude\, 21614\, Deutschland
CATEGORIES:Beratung
ATTACH;FMTTYPE=image/jpeg:https://hausundgrund-buxtehude.de/wp-content/uploads/2024/03/von-Bargen.jpg
END:VEVENT
END:VCALENDAR